BEGIN:VCALENDAR
VERSION:2.0
PRODID:-//制度情報 - ECPv6.15.15//NONSGML v1.0//EN
CALSCALE:GREGORIAN
METHOD:PUBLISH
X-WR-CALNAME:制度情報
X-ORIGINAL-URL:https://seido-joho.com
X-WR-CALDESC:制度情報 のイベント
REFRESH-INTERVAL;VALUE=DURATION:PT1H
X-Robots-Tag:noindex
X-PUBLISHED-TTL:PT1H
BEGIN:VTIMEZONE
TZID:Asia/Tokyo
BEGIN:STANDARD
TZOFFSETFROM:+0900
TZOFFSETTO:+0900
TZNAME:JST
DTSTART:20250101T000000
END:STANDARD
END:VTIMEZONE
BEGIN:VEVENT
DTSTART;TZID=Asia/Tokyo:20260423T180000
DTEND;TZID=Asia/Tokyo:20260423T200000
DTSTAMP:20260423T021515
CREATED:20260416T091615Z
LAST-MODIFIED:20260422T170113Z
UID:57437-1776967200-1776974400@seido-joho.com
SUMMARY:第11回 計画評価及び検証小委員会
DESCRIPTION:日時：2026年4月23日（木曜日）18時00分～20時00分\n場所：Web開催といたします\nAgenda：\n送変電設備の標準的な単価の見直しについて（報告）\n北海道本州間連系設備（日本海ルート）に係る広域系統整備計画に関する予備評価の実施について\n配信：非公開\n資料：https://www.occto.or.jp/iinkai/kouikikeitouseibi_hyouka/11.html
URL:https://seido-joho.com/event/%e7%ac%ac11%e5%9b%9e-%e8%a8%88%e7%94%bb%e8%a9%95%e4%be%a1%e5%8f%8a%e3%81%b3%e6%a4%9c%e8%a8%bc%e5%b0%8f%e5%a7%94%e5%93%a1%e4%bc%9a/
END:VEVENT
END:VCALENDAR