BEGIN:VCALENDAR
VERSION:2.0
PRODID:-//制度情報 - ECPv6.15.15//NONSGML v1.0//EN
CALSCALE:GREGORIAN
METHOD:PUBLISH
X-WR-CALNAME:制度情報
X-ORIGINAL-URL:https://seido-joho.com
X-WR-CALDESC:制度情報 のイベント
REFRESH-INTERVAL;VALUE=DURATION:PT1H
X-Robots-Tag:noindex
X-PUBLISHED-TTL:PT1H
BEGIN:VTIMEZONE
TZID:Asia/Tokyo
BEGIN:STANDARD
TZOFFSETFROM:+0900
TZOFFSETTO:+0900
TZNAME:JST
DTSTART:20250101T000000
END:STANDARD
END:VTIMEZONE
BEGIN:VEVENT
DTSTART;TZID=Asia/Tokyo:20260422T170000
DTEND;TZID=Asia/Tokyo:20260422T190000
DTSTAMP:20260422T014414
CREATED:20260415T083114Z
LAST-MODIFIED:20260421T161614Z
UID:57383-1776877200-1776884400@seido-joho.com
SUMMARY:第100回 広域系統整備委員会
DESCRIPTION:日時：2026年4月22日（水曜日）17時00分～19時00分\n場所：Web開催といたします\nAgenda：\n高経年化設備更新ガイドラインの改定について\n広域系統整備に関する長期展望のレビューについて（シナリオの設定、需要・電源のエリア配賦）\n配信：後日公開\n資料：https://www.occto.or.jp/iinkai/kouikikeitouseibi/100.html
URL:https://seido-joho.com/event/%e7%ac%ac100%e5%9b%9e-%e5%ba%83%e5%9f%9f%e7%b3%bb%e7%b5%b1%e6%95%b4%e5%82%99%e5%a7%94%e5%93%a1%e4%bc%9a/
END:VEVENT
END:VCALENDAR