BEGIN:VCALENDAR
VERSION:2.0
PRODID:-//制度情報 - ECPv6.15.15//NONSGML v1.0//EN
CALSCALE:GREGORIAN
METHOD:PUBLISH
X-WR-CALNAME:制度情報
X-ORIGINAL-URL:https://seido-joho.com
X-WR-CALDESC:制度情報 のイベント
REFRESH-INTERVAL;VALUE=DURATION:PT1H
X-Robots-Tag:noindex
X-PUBLISHED-TTL:PT1H
BEGIN:VTIMEZONE
TZID:Asia/Tokyo
BEGIN:STANDARD
TZOFFSETFROM:+0900
TZOFFSETTO:+0900
TZNAME:JST
DTSTART:20250101T000000
END:STANDARD
END:VTIMEZONE
BEGIN:VEVENT
DTSTART;TZID=Asia/Tokyo:20260421T130000
DTEND;TZID=Asia/Tokyo:20260421T150000
DTSTAMP:20260421T020200
CREATED:20260417T021613Z
LAST-MODIFIED:20260420T164615Z
UID:57474-1776776400-1776783600@seido-joho.com
SUMMARY:総合資源エネルギー調査会 省エネルギー・新エネルギー分科会 水素・アンモニア政策小委員会（第17回）
DESCRIPTION:日時：2026年4月21日(火) 13時00分～15時00分\n場所：経済産業省別館２階235会議室\nAgenda：環境省の水素事業の取組 水素・アンモニアの社会実装に向けた当面の課題と取組の方向性\n配信：https://www.youtube.com/live/KCrXxZJQMbY\n資料：https://www.meti.go.jp/shingikai/enecho/shoene_shinene/suiso_seisaku/index.html
URL:https://seido-joho.com/event/%e7%b7%8f%e5%90%88%e8%b3%87%e6%ba%90%e3%82%a8%e3%83%8d%e3%83%ab%e3%82%ae%e3%83%bc%e8%aa%bf%e6%9f%bb%e4%bc%9a-%e7%9c%81%e3%82%a8%e3%83%8d%e3%83%ab%e3%82%ae%e3%83%bc%e3%83%bb%e6%96%b0%e3%82%a8-57/
END:VEVENT
END:VCALENDAR