BEGIN:VCALENDAR
VERSION:2.0
PRODID:-//制度情報 - ECPv6.15.15//NONSGML v1.0//EN
CALSCALE:GREGORIAN
METHOD:PUBLISH
X-WR-CALNAME:制度情報
X-ORIGINAL-URL:https://seido-joho.com
X-WR-CALDESC:制度情報 のイベント
REFRESH-INTERVAL;VALUE=DURATION:PT1H
X-Robots-Tag:noindex
X-PUBLISHED-TTL:PT1H
BEGIN:VTIMEZONE
TZID:Asia/Tokyo
BEGIN:STANDARD
TZOFFSETFROM:+0900
TZOFFSETTO:+0900
TZNAME:JST
DTSTART:20250101T000000
END:STANDARD
END:VTIMEZONE
BEGIN:VEVENT
DTSTART;TZID=Asia/Tokyo:20260420T090000
DTEND;TZID=Asia/Tokyo:20260420T110000
DTSTAMP:20260420T034221
CREATED:20260414T034614Z
LAST-MODIFIED:20260419T183112Z
UID:57322-1776675600-1776682800@seido-joho.com
SUMMARY:第２３回同時市場の在り方等に関する検討会
DESCRIPTION:日時：2026年4月20日(月) 9時00分～11時00分\n場所：電力広域的運営推進機関第二事務所会議室O\nAgenda：\n電源起動・出力配分ロジックの技術検証（検証A）の進捗報告について\n同時市場に関する今後の検討事項について\n配信：https://www.youtube.com/watch?v=0A1gNrcMhTM\n資料：https://www.meti.go.jp/shingikai/energy_environment/doji_shijo_kento/index.html
URL:https://seido-joho.com/event/%e7%ac%ac%ef%bc%92%ef%bc%93%e5%9b%9e%e5%90%8c%e6%99%82%e5%b8%82%e5%a0%b4%e3%81%ae%e5%9c%a8%e3%82%8a%e6%96%b9%e7%ad%89%e3%81%ab%e9%96%a2%e3%81%99%e3%82%8b%e6%a4%9c%e8%a8%8e%e4%bc%9a/
END:VEVENT
BEGIN:VEVENT
DTSTART;TZID=Asia/Tokyo:20260420T160000
DTEND;TZID=Asia/Tokyo:20260420T180000
DTSTAMP:20260420T034221
CREATED:20260415T083113Z
LAST-MODIFIED:20260416T083112Z
UID:57382-1776700800-1776708000@seido-joho.com
SUMMARY:第６０５回電力・ガス取引監視等委員会
DESCRIPTION:日時：2026年4月20日(月) 16時00分～18時00分\n場所：オンライン\nAgenda：\n調整中\n配信：非公開\n資料：https://www.egc.meti.go.jp/activity/index_emsc.html
URL:https://seido-joho.com/event/%e7%ac%ac%ef%bc%96%ef%bc%90%ef%bc%95%e5%9b%9e%e9%9b%bb%e5%8a%9b%e3%83%bb%e3%82%ac%e3%82%b9%e5%8f%96%e5%bc%95%e7%9b%a3%e8%a6%96%e7%ad%89%e5%a7%94%e5%93%a1%e4%bc%9a/
END:VEVENT
BEGIN:VEVENT
DTSTART;TZID=Asia/Tokyo:20260420T160000
DTEND;TZID=Asia/Tokyo:20260420T180000
DTSTAMP:20260420T034221
CREATED:20260416T091614Z
LAST-MODIFIED:20260419T183112Z
UID:57435-1776700800-1776708000@seido-joho.com
SUMMARY:第６０５回電力・ガス取引監視等委員会（第二部）
DESCRIPTION:日時：2026年4月20日(月) 16時00分～18時00分\n場所：オンライン\nAgenda：\n・電気事業法施行令第34条等の規定に基づくあっせん及び仲裁の状況の報告について\n・小売電気事業の報告について\n配信：非公開\n資料：https://www.egc.meti.go.jp/activity/emsc/605_haifu.html
URL:https://seido-joho.com/event/%e7%ac%ac%ef%bc%96%ef%bc%90%ef%bc%95%e5%9b%9e%e9%9b%bb%e5%8a%9b%e3%83%bb%e3%82%ac%e3%82%b9%e5%8f%96%e5%bc%95%e7%9b%a3%e8%a6%96%e7%ad%89%e5%a7%94%e5%93%a1%e4%bc%9a%ef%bc%88%e7%ac%ac%e4%ba%8c%e9%83%a8/
END:VEVENT
BEGIN:VEVENT
DTSTART;TZID=Asia/Tokyo:20260420T160000
DTEND;TZID=Asia/Tokyo:20260420T180000
DTSTAMP:20260420T034221
CREATED:20260416T091614Z
LAST-MODIFIED:20260419T183112Z
UID:57436-1776700800-1776708000@seido-joho.com
SUMMARY:第６０５回電力・ガス取引監視等委員会（第一部）
DESCRIPTION:日時：2026年4月20日(月) 16時00分～18時00分\n場所：オンライン\nAgenda：あっせん・仲裁委員の候補者の指定等について\n配信：https://www.youtube.com/live/dxJwqKlyM_8\n資料：https://www.egc.meti.go.jp/activity/emsc/605_haifu.html
URL:https://seido-joho.com/event/%e7%ac%ac%ef%bc%96%ef%bc%90%ef%bc%95%e5%9b%9e%e9%9b%bb%e5%8a%9b%e3%83%bb%e3%82%ac%e3%82%b9%e5%8f%96%e5%bc%95%e7%9b%a3%e8%a6%96%e7%ad%89%e5%a7%94%e5%93%a1%e4%bc%9a%ef%bc%88%e7%ac%ac%e4%b8%80%e9%83%a8/
END:VEVENT
END:VCALENDAR